Workbook

Sheet PREV ORÇAMENTARIA 2027
A1: PREVISÃO ORÇAMENTÁRIA 2027 - SINDIPETRO-ES
A2: SECRETARIAS | B2: COORDENADORIA GERAL | F2: ADMINISTRAÇAO | J2: APOSENTADOS E PENSIONISTAS | N2: COMUNICAÇAO | R2: CONSELHO FISCAL | V2: CULTURA, ESPORTE E LAZER | Z2: FINANÇAS | AD2: POLITICA E FORMAÇAO SINDICAL | AH2: JURIDICO | AL2: PATRIMONIAL | AP2: SMS | AT2: SETOR PRIVADO E TERCEIRIZADOS | AX2: TOTAL DAS DESPESAS | BB2: SALDO EM AGOSTO/26 | BC2: MEDIA POR MÊS PARA GASTAR | BD2: previsao da receita 2026 (média) | BE2: reajuste do previsto 4,74% (projeçao) | BF2: dif prev final x reajuste
A3: TOTAL | B3: =SUM(B5:B79) -> 1445100 | C3: =SUM(C5:C79) -> #REF! | D3: =SUM(D5:D79) -> #REF! | E3: =SUM(E5:E79) -> 1574925 | F3: =SUM(F5:F79) -> 760300 | G3: =SUM(G5:G79) -> #REF! | H3: =SUM(H5:H79) -> #REF! | I3: =SUM(I5:I79) -> 837230 | ... BA3: =SUM(BA5:BA79) -> 5834462.4 | BB3: =AX3-AY3 -> #REF! | BC3: =BB3/4 -> #REF! | BD3: =M82 -> #REF! | BE3: =Q82 -> #REF! | BF3: =BE3-BD3 -> #REF!
B4: PREVISTO | C4: REALIZADO | D4: PREV INICIAL 2027 | E4: PREVISAO FINAL 2027 | F4: PREVISTO | G4: REALIZADO | H4: PREV INICIAL 2027 | I4: PREVISAO FINAL 2027 | J4: PREVISTO | K4: REALIZADO | L4: PREV INICIAL 2027 | M4: PREVISAO FINAL 2027 | N4: PREVISTO | O4: REALIZADO | P4: PREV INICIAL 2027 | Q4: PREVISAO FINAL 2027 | R4: PREVISTO | S4: REALIZADO | T4: PREV INICIAL 2027 | U4: PREVISAO FINAL 2027 | V4: PREVISTO | W4: REALIZADO | X4: PREV INICIAL 2027 | Y4: PREVISAO FINAL 2027 | Z4: PREVISTO | AA4: REALIZADO | AB4: PREV INICIAL 2027 | AC4: PREVISAO FINAL 2027 | AD4: PREVISTO | AE4: REALIZADO | AF4: PREV INICIAL 2027 | AG4: PREVISAO FINAL 2027 | AH4: PREVISTO | AI4: REALIZADO | AJ4: PREV INICIAL 2027 | AK4: PREVISAO FINAL 2027 | AL4: PREVISTO | AM4: REALIZADO | AN4: PREV INICIAL 2027 | AO4: PREVISAO FINAL 2027 | AP4: PREVISTO | AQ4: REALIZADO | AR4: PREV INICIAL 2027 | AS4: PREVISAO FINAL 2027 | AT4: PREVISTO | AU4: REALIZADO | AV4: PREV INICIAL 2027 | AW4: PREVISAO FINAL 2027 | AX4: PREVISTO | AY4: REALIZADO | AZ4: PREV INICIAL 2027 | BA4: PREVISAO FINAL 2027 | BB4: =AY3/8 -> #REF! | BC4: MEDIA POR MÊS REALIZADO
A5: CUT | B5: 73000 | C5: =COORD!I1070 -> #REF! | D5: =(6048*12)*105% -> 76204.8 | E5: 76500 | AX5: =SUM(B5,F5,J5,N5,R5,V5,Z5,AD5,AH5,AL5,AP5,AT5) -> 73000 | AY5: =SUM(C5,G5,K5,O5,S5,W5,AA5,AE5,AI5,AM5,AQ5,AU5) -> #REF! | AZ5: =SUM(D5,H5,L5,P5,T5,X5,AB5,AF5,AJ5,AN5,AR5,AV5) -> 76204.8 | BA5: =SUM(E5,I5,M5,Q5,U5,Y5,AC5,AG5,AK5,AO5,AS5,AW5) -> 76500
A6: RATEIO FUP | B6: 95000 | C6: =COORD!I1071 -> #REF! | D6: =(((C6/8)*4)+C6)*105% -> #REF! | E6: 80000 | AX6: =SUM(B6,F6,J6,N6,R6,V6,Z6,AD6,AH6,AL6,AP6,AT6) -> 95000 | AY6: =SUM(C6,G6,K6,O6,S6,W6,AA6,AE6,AI6,AM6,AQ6,AU6) -> #REF! | AZ6: =SUM(D6,H6,L6,P6,T6,X6,AB6,AF6,AJ6,AN6,AR6,AV6) -> #REF! | BA6: =SUM(E6,I6,M6,Q6,U6,Y6,AC6,AG6,AK6,AO6,AS6,AW6) -> 80000
A7: EMPRESTIMO FUP | B7: 0 | C7: =COORD!I1072 -> #REF! | D7: =(((C7/8)*4)+C7)*105% -> #REF! | E7: 0 | AX7: =SUM(B7,F7,J7,N7,R7,V7,Z7,AD7,AH7,AL7,AP7,AT7) -> 0 | AY7: =SUM(C7,G7,K7,O7,S7,W7,AA7,AE7,AI7,AM7,AQ7,AU7) -> #REF! | AZ7: =SUM(D7,H7,L7,P7,T7,X7,AB7,AF7,AJ7,AN7,AR7,AV7) -> #REF! | BA7: =SUM(E7,I7,M7,Q7,U7,Y7,AC7,AG7,AK7,AO7,AS7,AW7) -> 0 | BE7: SALDO BANCARIO EM 31/08/2026
A8: INTERSINDICAL (DIEESE) | B8: 16000 | C8: =COORD!I1073 -> #REF! | D8: =(((C8/8)*4)+C8)*105% -> #REF! | E8: 16000 | AX8: =SUM(B8,F8,J8,N8,R8,V8,Z8,AD8,AH8,AL8,AP8,AT8) -> 16000 | AY8: =SUM(C8,G8,K8,O8,S8,W8,AA8,AE8,AI8,AM8,AQ8,AU8) -> #REF! | AZ8: =SUM(D8,H8,L8,P8,T8,X8,AB8,AF8,AJ8,AN8,AR8,AV8) -> #REF! | BA8: =SUM(E8,I8,M8,Q8,U8,Y8,AC8,AG8,AK8,AO8,AS8,AW8) -> 16000 | BE8: CAIXA | BF8: 87171.66
A9: ELEIÇOES | B9: 130000 | C9: =COORD!I1074 -> #REF! | D9: =(((C9/8)*4)+C9)*105% -> #REF! | E9: 0 | AX9: =SUM(B9,F9,J9,N9,R9,V9,Z9,AD9,AH9,AL9,AP9,AT9) -> 130000 | AY9: =SUM(C9,G9,K9,O9,S9,W9,AA9,AE9,AI9,AM9,AQ9,AU9) -> #REF! | AZ9: =SUM(D9,H9,L9,P9,T9,X9,AB9,AF9,AJ9,AN9,AR9,AV9) -> #REF! | BA9: =SUM(E9,I9,M9,Q9,U9,Y9,AC9,AG9,AK9,AO9,AS9,AW9) -> 0 | BE9: BB | BF9: =657915.14+2775398.26 -> 3433313.4 | BG9: SALDO+PROJEÇAO | BH9: RESULTADO 2026
A10: REPASSE P/ O FUNDO DE GREVE (5% DA MENSALIDADE) | B10: 223000 | C10: =COORD!I1075 -> #REF! | D10: =(E83*5%) -> #REF! | E10: 241500 | AX10: =SUM(B10,F10,J10,N10,R10,V10,Z10,AD10,AH10,AL10,AP10,AT10) -> 223000 | AY10: =SUM(C10,G10,K10,O10,S10,W10,AA10,AE10,AI10,AM10,AQ10,AU10) -> #REF! | AZ10: =SUM(D10,H10,L10,P10,T10,X10,AB10,AF10,AJ10,AN10,AR10,AV10) -> #REF! | BA10: =SUM(E10,I10,M10,Q10,U10,Y10,AC10,AG10,AK10,AO10,AS10,AW10) -> 241500 | BE10: TOTAL | BF10: =SUM(BF8:BF9) -> 3520485.1 | BG10: =BF10+BE3 -> #REF! | BH10: =BG10-U82 -> #REF!
A11: CUSTEIO DE LIBERAÇOES | B11: 43000 | C11: =COORD!I1076 -> #REF! | D11: =(((C11/8)*4)+C11)*105% -> #REF! | E11: =B11*105% -> 45150 | AX11: =SUM(B11,F11,J11,N11,R11,V11,Z11,AD11,AH11,AL11,AP11,AT11) -> 43000 | AY11: =SUM(C11,G11,K11,O11,S11,W11,AA11,AE11,AI11,AM11,AQ11,AU11) -> #REF! | AZ11: =SUM(D11,H11,L11,P11,T11,X11,AB11,AF11,AJ11,AN11,AR11,AV11) -> #REF! | BA11: =SUM(E11,I11,M11,Q11,U11,Y11,AC11,AG11,AK11,AO11,AS11,AW11) -> 45150
A12: EXAMES MEDICOS (PETROLEIROS) | AP12: 3180 | AQ12: =SMS!I32 -> #REF! | AR12: =(((AQ12/8)*4)+AQ12)*105% -> #REF! | AS12: 3200 | AX12: =SUM(B12,F12,J12,N12,R12,V12,Z12,AD12,AH12,AL12,AP12,AT12) -> 3180 | AY12: =SUM(C12,G12,K12,O12,S12,W12,AA12,AE12,AI12,AM12,AQ12,AU12) -> #REF! | AZ12: =SUM(D12,H12,L12,P12,T12,X12,AB12,AF12,AJ12,AN12,AR12,AV12) -> #REF! | BA12: =SUM(E12,I12,M12,Q12,U12,Y12,AC12,AG12,AK12,AO12,AS12,AW12) -> 3200
A13: EVENTO DAS MULHERES | AD13: 79500 | AE13: =FORM!I244 -> #REF! | AF13: =(((AE13/8)*4)+AE13)*105% -> #REF! | AG13: 89320 | AX13: =SUM(B13,F13,J13,N13,R13,V13,Z13,AD13,AH13,AL13,AP13,AT13) -> 79500 | AY13: =SUM(C13,G13,K13,O13,S13,W13,AA13,AE13,AI13,AM13,AQ13,AU13) -> #REF! | AZ13: =SUM(D13,H13,L13,P13,T13,X13,AB13,AF13,AJ13,AN13,AR13,AV13) -> #REF! | BA13: =SUM(E13,I13,M13,Q13,U13,Y13,AC13,AG13,AK13,AO13,AS13,AW13) -> 89320 | BE13: FUNDO DE GREVE 08/26 | BF13: 3822211
A14: EVENTOS DIVERSOS (cursos de atualizacao, assembleias e atos, etc) | B14: 100000 | C14: =COORD!I1077 -> #REF! | D14: =(((C14/8)*4)+C14)*105% -> #REF! | E14: =B14*105% -> 105000 | J14: 60000 | K14: =APOSENT!I126 -> #REF! | L14: =(((K14/8)*4)+K14)*105% -> #REF! | M14: =J14*105% -> 63000 | V14: 10706 | W14: =CULT!I53 -> #REF! | X14: =(((W14/8)*4)+W14)*105% -> #REF! | Y14: 13600 | AD14: 11130 | AE14: =FORM!I245 -> #REF! | AF14: =(((AE14/8)*4)+AE14)*105% -> #REF! | AG14: 11130 | AP14: 42400 | AQ14: =SMS!I33 -> #REF! | AR14: =(((AQ14/8)*4)+AQ14)*105% -> #REF! | AS14: 5000 | AT14: 50000 | AU14: =TERC!I353 -> #REF! | AV14: =(((AU14/8)*4)+AU14)*105% -> #REF! | AW14: 50000 | AX14: =SUM(B14,F14,J14,N14,R14,V14,Z14,AD14,AH14,AL14,AP14,AT14) -> 274236 | AY14: =SUM(C14,G14,K14,O14,S14,W14,AA14,AE14,AI14,AM14,AQ14,AU14) -> #REF! | AZ14: =SUM(D14,H14,L14,P14,T14,X14,AB14,AF14,AJ14,AN14,AR14,AV14) -> #REF! | BA14: =SUM(E14,I14,M14,Q14,U14,Y14,AC14,AG14,AK14,AO14,AS14,AW14) -> 247730
A15: AUXILIO ALIMENTAÇAO | B15: 103000 | C15: =COORD!I1078 -> #REF! | D15: =(((C15/8)*4)+C15)*105% -> #REF! | E15: 117500 | AX15: =SUM(B15,F15,J15,N15,R15,V15,Z15,AD15,AH15,AL15,AP15,AT15) -> 103000 | AY15: =SUM(C15,G15,K15,O15,S15,W15,AA15,AE15,AI15,AM15,AQ15,AU15) -> #REF! | AZ15: =SUM(D15,H15,L15,P15,T15,X15,AB15,AF15,AJ15,AN15,AR15,AV15) -> #REF! | BA15: =SUM(E15,I15,M15,Q15,U15,Y15,AC15,AG15,AK15,AO15,AS15,AW15) -> 117500
A16: CAMPANHA PARA A ESTATIZAÇAO (diarias, gas, gasolina, hospedagem, serv de comunicaçao) | B16: 169600 | C16: =COORD!I1079 -> #REF! | D16: =(((C16/8)*4)+C16)*105% -> #REF! | E16: 346000 | AX16: =SUM(B16,F16,J16,N16,R16,V16,Z16,AD16,AH16,AL16,AP16,AT16) -> 169600 | AY16: =SUM(C16,G16,K16,O16,S16,W16,AA16,AE16,AI16,AM16,AQ16,AU16) -> #REF! | AZ16: =SUM(D16,H16,L16,P16,T16,X16,AB16,AF16,AJ16,AN16,AR16,AV16) -> #REF! | BA16: =SUM(E16,I16,M16,Q16,U16,Y16,AC16,AG16,AK16,AO16,AS16,AW16) -> 346000
A17: CAMPANHA NATAL SOLIDARIO | B17: 0 | C17: =COORD!I1080 -> #REF! | D17: =(((C17/8)*4)+C17)*105% -> #REF! | E17: 0 | AX17: =SUM(B17,F17,J17,N17,R17,V17,Z17,AD17,AH17,AL17,AP17,AT17) -> 0 | AY17: =SUM(C17,G17,K17,O17,S17,W17,AA17,AE17,AI17,AM17,AQ17,AU17) -> #REF! | AZ17: =SUM(D17,H17,L17,P17,T17,X17,AB17,AF17,AJ17,AN17,AR17,AV17) -> #REF! | BA17: =SUM(E17,I17,M17,Q17,U17,Y17,AC17,AG17,AK17,AO17,AS17,AW17) -> 0
A18: DEVOLUÇAO DIVERSA | B18: 0 | C18: =COORD!I1081 -> #REF! | D18: 0 | E18: 0 | AX18: =SUM(B18,F18,J18,N18,R18,V18,Z18,AD18,AH18,AL18,AP18,AT18) -> 0 | AY18: =SUM(C18,G18,K18,O18,S18,W18,AA18,AE18,AI18,AM18,AQ18,AU18) -> #REF! | AZ18: =SUM(D18,H18,L18,P18,T18,X18,AB18,AF18,AJ18,AN18,AR18,AV18) -> 0 | BA18: =SUM(E18,I18,M18,Q18,U18,Y18,AC18,AG18,AK18,AO18,AS18,AW18) -> 0
A19: DEVOLUÇAO CONTRIBUIÇAO ASSISTENCIAL | B19: 0 | C19: =COORD!I1082 -> #REF! | D19: 0 | E19: 0 | AX19: =SUM(B19,F19,J19,N19,R19,V19,Z19,AD19,AH19,AL19,AP19,AT19) -> 0 | AY19: =SUM(C19,G19,K19,O19,S19,W19,AA19,AE19,AI19,AM19,AQ19,AU19) -> #REF! | AZ19: =SUM(D19,H19,L19,P19,T19,X19,AB19,AF19,AJ19,AN19,AR19,AV19) -> 0 | BA19: =SUM(E19,I19,M19,Q19,U19,Y19,AC19,AG19,AK19,AO19,AS19,AW19) -> 0
A20: FUNDO DE GREVE(DESCONTO RESERVA) | B20: 0 | C20: =COORD!I1083 -> #REF! | D20: 0 | E20: 0 | AX20: =SUM(B20,F20,J20,N20,R20,V20,Z20,AD20,AH20,AL20,AP20,AT20) -> 0 | AY20: =SUM(C20,G20,K20,O20,S20,W20,AA20,AE20,AI20,AM20,AQ20,AU20) -> #REF! | AZ20: =SUM(D20,H20,L20,P20,T20,X20,AB20,AF20,AJ20,AN20,AR20,AV20) -> 0 | BA20: =SUM(E20,I20,M20,Q20,U20,Y20,AC20,AG20,AK20,AO20,AS20,AW20) -> 0
A21: DOAÇAO | B21: 0 | C21: =COORD!I1084 -> #REF! | D21: 0 | E21: 0 | AX21: =SUM(B21,F21,J21,N21,R21,V21,Z21,AD21,AH21,AL21,AP21,AT21) -> 0 | AY21: =SUM(C21,G21,K21,O21,S21,W21,AA21,AE21,AI21,AM21,AQ21,AU21) -> #REF! | AZ21: =SUM(D21,H21,L21,P21,T21,X21,AB21,AF21,AJ21,AN21,AR21,AV21) -> 0 | BA21: =SUM(E21,I21,M21,Q21,U21,Y21,AC21,AG21,AK21,AO21,AS21,AW21) -> 0
A22: CAMPANHA DA PASCOA | B22: 0 | C22: =COORD!I1085 -> #REF! | D22: 0 | E22: 0 | AX22: =SUM(B22,F22,J22,N22,R22,V22,Z22,AD22,AH22,AL22,AP22,AT22) -> 0 | AY22: =SUM(C22,G22,K22,O22,S22,W22,AA22,AE22,AI22,AM22,AQ22,AU22) -> #REF! | AZ22: =SUM(D22,H22,L22,P22,T22,X22,AB22,AF22,AJ22,AN22,AR22,AV22) -> 0 | BA22: =SUM(E22,I22,M22,Q22,U22,Y22,AC22,AG22,AK22,AO22,AS22,AW22) -> 0
A23: CAMPANHA DIA DAS CRIANÇAS | B23: 0 | C23: =COORD!I1086 -> #REF! | D23: 0 | E23: 0 | AX23: =SUM(B23,F23,J23,N23,R23,V23,Z23,AD23,AH23,AL23,AP23,AT23) -> 0 | AY23: =SUM(C23,G23,K23,O23,S23,W23,AA23,AE23,AI23,AM23,AQ23,AU23) -> #REF! | AZ23: =SUM(D23,H23,L23,P23,T23,X23,AB23,AF23,AJ23,AN23,AR23,AV23) -> 0 | BA23: =SUM(E23,I23,M23,Q23,U23,Y23,AC23,AG23,AK23,AO23,AS23,AW23) -> 0
A24: SALARIOS E ENCARGOS, ALIMENTAÇAO E TRANSPORTES | F24: 510000 | G24: =ADM!I467 -> #REF! | H24: =(((G24/8)*4)+G24)*106% -> #REF! | I24: 592000 | AX24: =SUM(B24,F24,J24,N24,R24,V24,Z24,AD24,AH24,AL24,AP24,AT24) -> 510000 | AY24: =SUM(C24,G24,K24,O24,S24,W24,AA24,AE24,AI24,AM24,AQ24,AU24) -> #REF! | AZ24: =SUM(D24,H24,L24,P24,T24,X24,AB24,AF24,AJ24,AN24,AR24,AV24) -> #REF! | BA24: =SUM(E24,I24,M24,Q24,U24,Y24,AC24,AG24,AK24,AO24,AS24,AW24) -> 592000
A25: SAUDE DO TRABALHADOR | F25: 3500 | G25: =ADM!I468 -> #REF! | H25: =(((G25/8)*4)+G25)*106% -> #REF! | I25: =F25*106% -> 3710 | AX25: =SUM(B25,F25,J25,N25,R25,V25,Z25,AD25,AH25,AL25,AP25,AT25) -> 3500 | AY25: =SUM(C25,G25,K25,O25,S25,W25,AA25,AE25,AI25,AM25,AQ25,AU25) -> #REF! | AZ25: =SUM(D25,H25,L25,P25,T25,X25,AB25,AF25,AJ25,AN25,AR25,AV25) -> #REF! | BA25: =SUM(E25,I25,M25,Q25,U25,Y25,AC25,AG25,AK25,AO25,AS25,AW25) -> 3710
A26: PLANO DE SAUDE | F26: 103000 | G26: =ADM!I469 -> #REF! | H26: =(((G26/8)*4)+G26)*106% -> #REF! | I26: 112000 | AX26: =SUM(B26,F26,J26,N26,R26,V26,Z26,AD26,AH26,AL26,AP26,AT26) -> 103000 | AY26: =SUM(C26,G26,K26,O26,S26,W26,AA26,AE26,AI26,AM26,AQ26,AU26) -> #REF! | AZ26: =SUM(D26,H26,L26,P26,T26,X26,AB26,AF26,AJ26,AN26,AR26,AV26) -> #REF! | BA26: =SUM(E26,I26,M26,Q26,U26,Y26,AC26,AG26,AK26,AO26,AS26,AW26) -> 112000
A27: PLANO ODONTOLOGICO | F27: 7000 | G27: =ADM!I470 -> #REF! | H27: =(((G27/8)*4)+G27)*106% -> #REF! | I27: =F27*106% -> 7420 | AX27: =SUM(B27,F27,J27,N27,R27,V27,Z27,AD27,AH27,AL27,AP27,AT27) -> 7000 | AY27: =SUM(C27,G27,K27,O27,S27,W27,AA27,AE27,AI27,AM27,AQ27,AU27) -> #REF! | AZ27: =SUM(D27,H27,L27,P27,T27,X27,AB27,AF27,AJ27,AN27,AR27,AV27) -> #REF! | BA27: =SUM(E27,I27,M27,Q27,U27,Y27,AC27,AG27,AK27,AO27,AS27,AW27) -> 7420
A28: SEGURO DE VIDA FUNC | F28: 7000 | G28: =ADM!I471 -> #REF! | H28: =(((G28/8)*4)+G28)*106% -> #REF! | I28: =F28*106% -> 7420 | AX28: =SUM(B28,F28,J28,N28,R28,V28,Z28,AD28,AH28,AL28,AP28,AT28) -> 7000 | AY28: =SUM(C28,G28,K28,O28,S28,W28,AA28,AE28,AI28,AM28,AQ28,AU28) -> #REF! | AZ28: =SUM(D28,H28,L28,P28,T28,X28,AB28,AF28,AJ28,AN28,AR28,AV28) -> #REF! | BA28: =SUM(E28,I28,M28,Q28,U28,Y28,AC28,AG28,AK28,AO28,AS28,AW28) -> 7420
A29: UNIFORMES DE FUNC | F29: 10000 | G29: =ADM!I472 -> #REF! | H29: =(((G29/8)*4)+G29)*106% -> #REF! | I29: =F29*106% -> 10600 | AX29: =SUM(B29,F29,J29,N29,R29,V29,Z29,AD29,AH29,AL29,AP29,AT29) -> 10000 | AY29: =SUM(C29,G29,K29,O29,S29,W29,AA29,AE29,AI29,AM29,AQ29,AU29) -> #REF! | AZ29: =SUM(D29,H29,L29,P29,T29,X29,AB29,AF29,AJ29,AN29,AR29,AV29) -> #REF! | BA29: =SUM(E29,I29,M29,Q29,U29,Y29,AC29,AG29,AK29,AO29,AS29,AW29) -> 10600
A30: AGUA E ESGOTO | F30: 5000 | G30: =ADM!I473 -> #REF! | H30: =(((G30/8)*4)+G30)*106% -> #REF! | I30: =F30*106% -> 5300 | AX30: =SUM(B30,F30,J30,N30,R30,V30,Z30,AD30,AH30,AL30,AP30,AT30) -> 5000 | AY30: =SUM(C30,G30,K30,O30,S30,W30,AA30,AE30,AI30,AM30,AQ30,AU30) -> #REF! | AZ30: =SUM(D30,H30,L30,P30,T30,X30,AB30,AF30,AJ30,AN30,AR30,AV30) -> #REF! | BA30: =SUM(E30,I30,M30,Q30,U30,Y30,AC30,AG30,AK30,AO30,AS30,AW30) -> 5300
A31: ENERGIA ELETRICA | F31: 22000 | G31: =ADM!I474 -> #REF! | H31: =(((G31/8)*4)+G31)*106% -> #REF! | I31: 8000 | AX31: =SUM(B31,F31,J31,N31,R31,V31,Z31,AD31,AH31,AL31,AP31,AT31) -> 22000 | AY31: =SUM(C31,G31,K31,O31,S31,W31,AA31,AE31,AI31,AM31,AQ31,AU31) -> #REF! | AZ31: =SUM(D31,H31,L31,P31,T31,X31,AB31,AF31,AJ31,AN31,AR31,AV31) -> #REF! | BA31: =SUM(E31,I31,M31,Q31,U31,Y31,AC31,AG31,AK31,AO31,AS31,AW31) -> 8000
A32: TELEFONIA FIXA E MOVEL | F32: 37000 | G32: =ADM!I475 -> #REF! | H32: =(((G32/8)*4)+G32)*106% -> #REF! | I32: 42000 | AX32: =SUM(B32,F32,J32,N32,R32,V32,Z32,AD32,AH32,AL32,AP32,AT32) -> 37000 | AY32: =SUM(C32,G32,K32,O32,S32,W32,AA32,AE32,AI32,AM32,AQ32,AU32) -> #REF! | AZ32: =SUM(D32,H32,L32,P32,T32,X32,AB32,AF32,AJ32,AN32,AR32,AV32) -> #REF! | BA32: =SUM(E32,I32,M32,Q32,U32,Y32,AC32,AG32,AK32,AO32,AS32,AW32) -> 42000
A33: MATERIAL DE CONSUMO | F33: 18000 | G33: =ADM!I476 -> #REF! | H33: =(((G33/8)*4)+G33)*106% -> #REF! | I33: 20000 | AX33: =SUM(B33,F33,J33,N33,R33,V33,Z33,AD33,AH33,AL33,AP33,AT33) -> 18000 | AY33: =SUM(C33,G33,K33,O33,S33,W33,AA33,AE33,AI33,AM33,AQ33,AU33) -> #REF! | AZ33: =SUM(D33,H33,L33,P33,T33,X33,AB33,AF33,AJ33,AN33,AR33,AV33) -> #REF! | BA33: =SUM(E33,I33,M33,Q33,U33,Y33,AC33,AG33,AK33,AO33,AS33,AW33) -> 20000
A34: MATERIAL DE ESCRITORIO | F34: 9000 | G34: =ADM!I477 -> #REF! | H34: =(((G34/8)*4)+G34)*106% -> #REF! | I34: 8000 | AX34: =SUM(B34,F34,J34,N34,R34,V34,Z34,AD34,AH34,AL34,AP34,AT34) -> 9000 | AY34: =SUM(C34,G34,K34,O34,S34,W34,AA34,AE34,AI34,AM34,AQ34,AU34) -> #REF! | AZ34: =SUM(D34,H34,L34,P34,T34,X34,AB34,AF34,AJ34,AN34,AR34,AV34) -> #REF! | BA34: =SUM(E34,I34,M34,Q34,U34,Y34,AC34,AG34,AK34,AO34,AS34,AW34) -> 8000
A35: MENSALIDADE DO SISTEMA | F35: 10000 | G35: =ADM!I478 -> #REF! | H35: =(((G35/8)*4)+G35)*106% -> #REF! | I35: 6000 | AX35: =SUM(B35,F35,J35,N35,R35,V35,Z35,AD35,AH35,AL35,AP35,AT35) -> 10000 | AY35: =SUM(C35,G35,K35,O35,S35,W35,AA35,AE35,AI35,AM35,AQ35,AU35) -> #REF! | AZ35: =SUM(D35,H35,L35,P35,T35,X35,AB35,AF35,AJ35,AN35,AR35,AV35) -> #REF! | BA35: =SUM(E35,I35,M35,Q35,U35,Y35,AC35,AG35,AK35,AO35,AS35,AW35) -> 6000
A36: ASSESSORIAS | N36: 290000 | O36: =COMUNIC!I124 -> #REF! | P36: =(((O36/8)*4)+O36)*105% -> #REF! | Q36: 293000 | AX36: =SUM(B36,F36,J36,N36,R36,V36,Z36,AD36,AH36,AL36,AP36,AT36) -> 290000 | AY36: =SUM(C36,G36,K36,O36,S36,W36,AA36,AE36,AI36,AM36,AQ36,AU36) -> #REF! | AZ36: =SUM(D36,H36,L36,P36,T36,X36,AB36,AF36,AJ36,AN36,AR36,AV36) -> #REF! | BA36: =SUM(E36,I36,M36,Q36,U36,Y36,AC36,AG36,AK36,AO36,AS36,AW36) -> 293000
A37: ARRASTAO DIGITAL | N37: 80000 | O37: =COMUNIC!I125 -> #REF! | P37: =(((O37/8)*4)+O37)*105% -> #REF! | Q37: 92100 | AX37: =SUM(B37,F37,J37,N37,R37,V37,Z37,AD37,AH37,AL37,AP37,AT37) -> 80000 | AY37: =SUM(C37,G37,K37,O37,S37,W37,AA37,AE37,AI37,AM37,AQ37,AU37) -> #REF! | AZ37: =SUM(D37,H37,L37,P37,T37,X37,AB37,AF37,AJ37,AN37,AR37,AV37) -> #REF! | BA37: =SUM(E37,I37,M37,Q37,U37,Y37,AC37,AG37,AK37,AO37,AS37,AW37) -> 92100
A38: SERVIÇOS DE MIDIA DIGITAL / MANUTENÇAO DO SITE / REDES SOCIAIS / SERVIÇOS DE COMUNICAÇAO | N38: 110000 | O38: =COMUNIC!I126 -> #REF! | P38: =(((O38/8)*4)+O38)*105% -> #REF! | Q38: 110000 | AX38: =SUM(B38,F38,J38,N38,R38,V38,Z38,AD38,AH38,AL38,AP38,AT38) -> 110000 | AY38: =SUM(C38,G38,K38,O38,S38,W38,AA38,AE38,AI38,AM38,AQ38,AU38) -> #REF! | AZ38: =SUM(D38,H38,L38,P38,T38,X38,AB38,AF38,AJ38,AN38,AR38,AV38) -> #REF! | BA38: =SUM(E38,I38,M38,Q38,U38,Y38,AC38,AG38,AK38,AO38,AS38,AW38) -> 110000
A39: SERVIÇOS GRAFICOS | N39: 60000 | O39: =COMUNIC!I127 -> #REF! | P39: =(((O39/8)*4)+O39)*105% -> #REF! | Q39: 60000 | AX39: =SUM(B39,F39,J39,N39,R39,V39,Z39,AD39,AH39,AL39,AP39,AT39) -> 60000 | AY39: =SUM(C39,G39,K39,O39,S39,W39,AA39,AE39,AI39,AM39,AQ39,AU39) -> #REF! | AZ39: =SUM(D39,H39,L39,P39,T39,X39,AB39,AF39,AJ39,AN39,AR39,AV39) -> #REF! | BA39: =SUM(E39,I39,M39,Q39,U39,Y39,AC39,AG39,AK39,AO39,AS39,AW39) -> 60000
A40: CAMPANHAS PUBLICITARIAS / TV, RADIO, JORNAL / PODCAST | N40: 30000 | O40: =COMUNIC!I128 -> #REF! | P40: =(((O40/8)*4)+O40)*105% -> #REF! | Q40: 30000 | AX40: =SUM(B40,F40,J40,N40,R40,V40,Z40,AD40,AH40,AL40,AP40,AT40) -> 30000 | AY40: =SUM(C40,G40,K40,O40,S40,W40,AA40,AE40,AI40,AM40,AQ40,AU40) -> #REF! | AZ40: =SUM(D40,H40,L40,P40,T40,X40,AB40,AF40,AJ40,AN40,AR40,AV40) -> #REF! | BA40: =SUM(E40,I40,M40,Q40,U40,Y40,AC40,AG40,AK40,AO40,AS40,AW40) -> 30000
...
